BEGIN:VCALENDAR
PRODID:-//SINGPromos.com//NONSGML v1.0//EN
VERSION:2.0
CALSCALE:GREGORIAN
METHOD:PUBLISH
X-WR-CALNAME:SINGPromos.com
X-ORIGINAL-URL:https://singpromos.com
X-WR-CALDESC:Events for SINGPromos.com
BEGIN:VEVENT
DTSTART:20190701T000000
DTEND:20190731T235900
DTSTAMP:20260422T080408
CREATED:20190702T140427
LAST-MODIFIED:20190702T141007
UID:228684@https://singpromos.com
SUMMARY:Hennsley's GSS Mega Sale - Extended!! From 1 - 31 July 2019
DESCRIPTION:Good News! Hennsley's extending their GSS Mega Sale for the month of July!. For more information, visit [ https://singpromos.com/beds/hennsleys-gss-mega-sale-extended-from-1-31-july-2019-228684/ ]. 
LOCATION:66 East Coast Road, 428778
URL:https://singpromos.com/beds/hennsleys-gss-mega-sale-extended-from-1-31-july-2019-228684/
END:VEVENT
END:VCALENDAR