BEGIN:VCALENDAR
PRODID:-//SINGPromos.com//NONSGML v1.0//EN
VERSION:2.0
CALSCALE:GREGORIAN
METHOD:PUBLISH
X-WR-CALNAME:SINGPromos.com
X-ORIGINAL-URL:https://singpromos.com
X-WR-CALDESC:Events for SINGPromos.com
BEGIN:VEVENT
DTSTART:20190701T000000
DTEND:20190731T235900
DTSTAMP:20260422T195449
CREATED:20190702T130552
LAST-MODIFIED:20190702T133321
UID:228703@https://singpromos.com
SUMMARY:Agoda: Up to 75% off + additional 8% OFF worldwide hotels with OCBC cards till 31 July 2019
DESCRIPTION:Enjoy great savings on Agoda.com with your OCBC credit cards.. For more information, visit [ https://singpromos.com/vacations/agoda-up-to-75-off-additional-8-off-worldwide-hotels-with-ocbc-cards-till-31-july-2019-228703/ ]. 
LOCATION:
URL:https://singpromos.com/vacations/agoda-up-to-75-off-additional-8-off-worldwide-hotels-with-ocbc-cards-till-31-july-2019-228703/
END:VEVENT
END:VCALENDAR