BEGIN:VCALENDAR
PRODID:-//SINGPromos.com//NONSGML v1.0//EN
VERSION:2.0
CALSCALE:GREGORIAN
METHOD:PUBLISH
X-WR-CALNAME:SINGPromos.com
X-ORIGINAL-URL:https://singpromos.com
X-WR-CALDESC:Events for SINGPromos.com
BEGIN:VEVENT
DTSTART:20190713T000000
DTEND:20190714T235900
DTSTAMP:20260420T042600
CREATED:20190712T101245
LAST-MODIFIED:20190710T122252
UID:228933@https://singpromos.com
SUMMARY:ASA Holidays Power Packed Travel Fair at Suntec from 13 - 14 July 2019
DESCRIPTION:Come on down this weekend to the much anticipated bi-annual ASA Holiday Power Packed Travel Fair!. For more information, visit [ https://singpromos.com/happenings/asa-holidays-power-packed-travel-fair-at-suntec-from-13-14-july-2019-228933/ ]. 
LOCATION:038983
URL:https://singpromos.com/happenings/asa-holidays-power-packed-travel-fair-at-suntec-from-13-14-july-2019-228933/
END:VEVENT
END:VCALENDAR