BEGIN:VCALENDAR
PRODID:-//SINGPromos.com//NONSGML v1.0//EN
VERSION:2.0
CALSCALE:GREGORIAN
METHOD:PUBLISH
X-WR-CALNAME:SINGPromos.com
X-ORIGINAL-URL:https://singpromos.com
X-WR-CALDESC:Events for SINGPromos.com
BEGIN:VEVENT
DTSTART:20190726T000000
DTEND:20190728T235900
DTSTAMP:20260420T032140
CREATED:20190725T115442
LAST-MODIFIED:20190725T132131
UID:229144@https://singpromos.com
SUMMARY:Biggest Electronics & IT Expo at Singapore Expo (26 - 28 July 2019)
DESCRIPTION:Join in and get rewarded with Biggest Giveaways!. For more information, visit [ https://singpromos.com/warehouse-sales/biggest-electronics-it-expo-at-singapore-expo-26-28-july-2019-229144/ ]. 
LOCATION:486150
URL:https://singpromos.com/warehouse-sales/biggest-electronics-it-expo-at-singapore-expo-26-28-july-2019-229144/
END:VEVENT
END:VCALENDAR