BEGIN:VCALENDAR
PRODID:-//SINGPromos.com//NONSGML v1.0//EN
VERSION:2.0
CALSCALE:GREGORIAN
METHOD:PUBLISH
X-WR-CALNAME:SINGPromos.com
X-ORIGINAL-URL:https://singpromos.com
X-WR-CALDESC:Events for SINGPromos.com
BEGIN:VEVENT
DTSTART:20120106T000000
DTEND:20120131T235900
DTSTAMP:20260420T214040
CREATED:20120105T015744
LAST-MODIFIED:20120105T015744
UID:22951@https://singpromos.com
SUMMARY:Olympus Digital Camera VR-310 Special Offer Promotion 6 - 31 Jan 2012
DESCRIPTION:The greatest Chinese horoscope - Dragon is here and Olympus is celebrating by offering an attractive bundle you can't resist! From 6 January till 31 January 2012, get the Olympus Digital Camera VR-310 at $228 with an additional $30 FairPrice Gift Voucher. For more information, visit [ https://singpromos.com/digital-cameras-dslr/olympus-digital-camera-vr-310-special-offer-promotion-6-31-jan-2012-22951/ ]. 
LOCATION:
URL:https://singpromos.com/digital-cameras-dslr/olympus-digital-camera-vr-310-special-offer-promotion-6-31-jan-2012-22951/
END:VEVENT
END:VCALENDAR