BEGIN:VCALENDAR
PRODID:-//SINGPromos.com//NONSGML v1.0//EN
VERSION:2.0
CALSCALE:GREGORIAN
METHOD:PUBLISH
X-WR-CALNAME:SINGPromos.com
X-ORIGINAL-URL:https://singpromos.com
X-WR-CALDESC:Events for SINGPromos.com
BEGIN:VEVENT
DTSTART:20190820T000000
DTEND:20190826T235900
DTSTAMP:20260420T005450
CREATED:20190819T235931
LAST-MODIFIED:20190819T235948
UID:229792@https://singpromos.com
SUMMARY:GOG.com's latest sale offers 250+ deals at up to 75% off till 26 August 2019
DESCRIPTION:Over 2 million community wishes have come true • 250+ deals up to -75% • Diablo + Hellfire, Warcraft I & II Bundle, Homeworld: Emergence, and more. For more information, visit [ https://singpromos.com/video-games/gog-coms-latest-sale-offers-250-deals-at-up-to-75-off-till-26-august-2019-229792/ ]. 
LOCATION:
URL:https://singpromos.com/video-games/gog-coms-latest-sale-offers-250-deals-at-up-to-75-off-till-26-august-2019-229792/
END:VEVENT
END:VCALENDAR