BEGIN:VCALENDAR
PRODID:-//SINGPromos.com//NONSGML v1.0//EN
VERSION:2.0
CALSCALE:GREGORIAN
METHOD:PUBLISH
X-WR-CALNAME:SINGPromos.com
X-ORIGINAL-URL:https://singpromos.com
X-WR-CALDESC:Events for SINGPromos.com
BEGIN:VEVENT
DTSTART:20190821T000000
DTEND:20190821T235900
DTSTAMP:20260420T042559
CREATED:20190820T124250
LAST-MODIFIED:20190821T131700
UID:229801@https://singpromos.com
SUMMARY:Krispy Kreme: $12 for 12 Original Glazed Doughnuts at selected outlets on 21 August 2019
DESCRIPTION:Krispy Kreme will be running the popular 12 for $12 promotion at selected outlets!. For more information, visit [ https://singpromos.com/dining-restaurants-food/krispy-kreme-12-for-12-original-glazed-doughnuts-at-selected-outlets-on-21-august-2019-229801/ ]. 
LOCATION:
URL:https://singpromos.com/dining-restaurants-food/krispy-kreme-12-for-12-original-glazed-doughnuts-at-selected-outlets-on-21-august-2019-229801/
END:VEVENT
END:VCALENDAR