BEGIN:VCALENDAR
PRODID:-//SINGPromos.com//NONSGML v1.0//EN
VERSION:2.0
CALSCALE:GREGORIAN
METHOD:PUBLISH
X-WR-CALNAME:SINGPromos.com
X-ORIGINAL-URL:https://singpromos.com
X-WR-CALDESC:Events for SINGPromos.com
BEGIN:VEVENT
DTSTART:20190901T000000
DTEND:20190930T235900
DTSTAMP:20260422T212627
CREATED:20190904T205022
LAST-MODIFIED:20190904T205022
UID:230189@https://singpromos.com
SUMMARY:Agoda: Up to 75% off + get extra 12% AgodaCash worldwide hotels with Standard Chartered cards valid till 30 September 2019
DESCRIPTION:Enjoy great savings on Agoda.com with Standard Chartered credit cards. For more information, visit [ https://singpromos.com/vacations/agoda-up-to-75-off-get-extra-12-agodacash-worldwide-hotels-with-standard-chartered-cards-valid-till-30-september-2019-230189/ ]. 
LOCATION:
URL:https://singpromos.com/vacations/agoda-up-to-75-off-get-extra-12-agodacash-worldwide-hotels-with-standard-chartered-cards-valid-till-30-september-2019-230189/
END:VEVENT
END:VCALENDAR