BEGIN:VCALENDAR
PRODID:-//SINGPromos.com//NONSGML v1.0//EN
VERSION:2.0
CALSCALE:GREGORIAN
METHOD:PUBLISH
X-WR-CALNAME:SINGPromos.com
X-ORIGINAL-URL:https://singpromos.com
X-WR-CALDESC:Events for SINGPromos.com
BEGIN:VEVENT
DTSTART:20190901T000000
DTEND:20191031T235900
DTSTAMP:20260422T212627
CREATED:20190904T205350
LAST-MODIFIED:20190904T205428
UID:230194@https://singpromos.com
SUMMARY:Agoda: UOB cards enjoy up to 75% off + additional 8% off worldwide till 31 Oct 2019
DESCRIPTION:p to 75% off + additional 8% off worldwide for UOB Cardmembers!. For more information, visit [ https://singpromos.com/vacations/agoda-uob-cards-enjoy-up-to-75-off-additional-8-off-worldwide-till-31-oct-2019-230194/ ]. 
LOCATION:
URL:https://singpromos.com/vacations/agoda-uob-cards-enjoy-up-to-75-off-additional-8-off-worldwide-till-31-oct-2019-230194/
END:VEVENT
END:VCALENDAR