BEGIN:VCALENDAR
PRODID:-//SINGPromos.com//NONSGML v1.0//EN
VERSION:2.0
CALSCALE:GREGORIAN
METHOD:PUBLISH
X-WR-CALNAME:SINGPromos.com
X-ORIGINAL-URL:https://singpromos.com
X-WR-CALDESC:Events for SINGPromos.com
BEGIN:VEVENT
DTSTART:20190906T000000
DTEND:20190909T235900
DTSTAMP:20260422T212513
CREATED:20190905T130616
LAST-MODIFIED:20190905T131034
UID:230295@https://singpromos.com
SUMMARY:King Koil's annual warehouse sale returns for four days from 6 - 9 Sep 2019
DESCRIPTION:The King Koil Annual Warehouse Sale is BACK featuring massive savings!. For more information, visit [ https://singpromos.com/warehouse-sales/king-koils-annual-warehouse-sale-returns-for-four-days-from-6-9-sep-2019-230295/ ]. 
LOCATION:13 Sungei Kadut Way, 728792
URL:https://singpromos.com/warehouse-sales/king-koils-annual-warehouse-sale-returns-for-four-days-from-6-9-sep-2019-230295/
END:VEVENT
END:VCALENDAR