BEGIN:VCALENDAR
PRODID:-//SINGPromos.com//NONSGML v1.0//EN
VERSION:2.0
CALSCALE:GREGORIAN
METHOD:PUBLISH
X-WR-CALNAME:SINGPromos.com
X-ORIGINAL-URL:https://singpromos.com
X-WR-CALDESC:Events for SINGPromos.com
BEGIN:VEVENT
DTSTART:20190906T000000
DTEND:20190908T235900
DTSTAMP:20260422T082238
CREATED:20190906T131134
LAST-MODIFIED:20190906T131540
UID:230333@https://singpromos.com
SUMMARY:Jetstar Airways' latest weekend sale features fares fr $52 all-in to over 20 destinations! Book by 8 Sept 2019
DESCRIPTION:Take that getaway you have been craving for!. For more information, visit [ https://singpromos.com/airlines-flights/jetstar-airways-latest-weekend-sale-features-fares-fr-52-all-in-to-over-20-destinations-book-by-8-sept-2019-230333/ ]. 
LOCATION:
URL:https://singpromos.com/airlines-flights/jetstar-airways-latest-weekend-sale-features-fares-fr-52-all-in-to-over-20-destinations-book-by-8-sept-2019-230333/
END:VEVENT
END:VCALENDAR