BEGIN:VCALENDAR
PRODID:-//SINGPromos.com//NONSGML v1.0//EN
VERSION:2.0
CALSCALE:GREGORIAN
METHOD:PUBLISH
X-WR-CALNAME:SINGPromos.com
X-ORIGINAL-URL:https://singpromos.com
X-WR-CALDESC:Events for SINGPromos.com
BEGIN:VEVENT
DTSTART:20120106T000000
DTEND:20120111T235900
DTSTAMP:20260424T023531
CREATED:20120106T040337
LAST-MODIFIED:20120113T044147
UID:23059@https://singpromos.com
SUMMARY:Guardian Abalone, Health, Beauty & Personal Care Offers 5 - 11 Jan 2012 
DESCRIPTION:Here is Guardian's latest promotion including Abalone gift sets. Enjoy up to 30% off health and beauty brands till 15 January 2012 and 20% off beauty brands till 25 jan 2012.. For more information, visit [ https://singpromos.com/health/guardian-abalone-health-beauty-personal-care-offers-5-11-jan-2012-23059/ ]. 
LOCATION:
URL:https://singpromos.com/health/guardian-abalone-health-beauty-personal-care-offers-5-11-jan-2012-23059/
END:VEVENT
END:VCALENDAR