BEGIN:VCALENDAR
PRODID:-//SINGPromos.com//NONSGML v1.0//EN
VERSION:2.0
CALSCALE:GREGORIAN
METHOD:PUBLISH
X-WR-CALNAME:SINGPromos.com
X-ORIGINAL-URL:https://singpromos.com
X-WR-CALDESC:Events for SINGPromos.com
BEGIN:VEVENT
DTSTART:20190920T000000
DTEND:20190921T235900
DTSTAMP:20260422T082114
CREATED:20190919T113651
LAST-MODIFIED:20190916T132819
UID:230596@https://singpromos.com
SUMMARY:Luxasia Beauty Festival 2019 from 20 - 21 Sep 2019
DESCRIPTION:Calling all beauty junkies!. For more information, visit [ https://singpromos.com/warehouse-sales/luxasia-beauty-festival-2019-from-20-21-sep-2019-230596/ ]. 
LOCATION:534118
URL:https://singpromos.com/warehouse-sales/luxasia-beauty-festival-2019-from-20-21-sep-2019-230596/
END:VEVENT
END:VCALENDAR