BEGIN:VCALENDAR
PRODID:-//SINGPromos.com//NONSGML v1.0//EN
VERSION:2.0
CALSCALE:GREGORIAN
METHOD:PUBLISH
X-WR-CALNAME:SINGPromos.com
X-ORIGINAL-URL:https://singpromos.com
X-WR-CALDESC:Events for SINGPromos.com
BEGIN:VEVENT
DTSTART:20191012T000000
DTEND:20191110T235900
DTSTAMP:20260422T082300
CREATED:20191007T111702
LAST-MODIFIED:20191007T115834
UID:231133@https://singpromos.com
SUMMARY:Goodwood Park Hotel's Dessert Buffet with Mao Shan Wang and D24 Durian Delights returns from 12 Oct - 10 Nov 2019
DESCRIPTION:The famed Durian Dessert Buffet is back at Coffee Lounge with even more durian indulgence. For more information, visit [ https://singpromos.com/dining-restaurants-food/goodwood-park-hotels-dessert-buffet-with-mao-shan-wang-and-d24-durian-delights-returns-from-12-oct-10-nov-2019-231133/ ]. 
LOCATION:228221
URL:https://singpromos.com/dining-restaurants-food/goodwood-park-hotels-dessert-buffet-with-mao-shan-wang-and-d24-durian-delights-returns-from-12-oct-10-nov-2019-231133/
END:VEVENT
END:VCALENDAR