BEGIN:VCALENDAR
PRODID:-//SINGPromos.com//NONSGML v1.0//EN
VERSION:2.0
CALSCALE:GREGORIAN
METHOD:PUBLISH
X-WR-CALNAME:SINGPromos.com
X-ORIGINAL-URL:https://singpromos.com
X-WR-CALDESC:Events for SINGPromos.com
BEGIN:VEVENT
DTSTART:20191010T000000
DTEND:20191010T235900
DTSTAMP:20260419T233345
CREATED:20191009T114426
LAST-MODIFIED:20191004T214345
UID:231204@https://singpromos.com
SUMMARY:Hong Kong Sheng Kee Dessert Free Wanton Mee Day on 10 October 2019
DESCRIPTION:Good news for all Wanton Noodle fans!. For more information, visit [ https://singpromos.com/dining-restaurants-food/hong-kong-sheng-kee-dessert-free-wanton-mee-day-on-10-october-2019-231204/ ]. 
LOCATION:
URL:https://singpromos.com/dining-restaurants-food/hong-kong-sheng-kee-dessert-free-wanton-mee-day-on-10-october-2019-231204/
END:VEVENT
END:VCALENDAR