BEGIN:VCALENDAR
PRODID:-//SINGPromos.com//NONSGML v1.0//EN
VERSION:2.0
CALSCALE:GREGORIAN
METHOD:PUBLISH
X-WR-CALNAME:SINGPromos.com
X-ORIGINAL-URL:https://singpromos.com
X-WR-CALDESC:Events for SINGPromos.com
BEGIN:VEVENT
DTSTART:20191003T000000
DTEND:20191031T235900
DTSTAMP:20260422T080715
CREATED:20191003T221654
LAST-MODIFIED:20191003T221654
UID:231266@https://singpromos.com
SUMMARY:Hennsley Great October Fiesta Sale (3 - 31 Oct 2019)
DESCRIPTION:Up to 40% Discount + $550 Off + Free Bedframe/Free Single or Super Single Size Mattress + Additional 15% Rebate up for grab when you purchase our Hennsley mattresses this month. For more information, visit [ https://singpromos.com/furniture/hennsley-great-october-fiesta-sale-3-31-oct-2019-231266/ ]. 
LOCATION:428778
URL:https://singpromos.com/furniture/hennsley-great-october-fiesta-sale-3-31-oct-2019-231266/
END:VEVENT
END:VCALENDAR