BEGIN:VCALENDAR
PRODID:-//SINGPromos.com//NONSGML v1.0//EN
VERSION:2.0
CALSCALE:GREGORIAN
METHOD:PUBLISH
X-WR-CALNAME:SINGPromos.com
X-ORIGINAL-URL:https://singpromos.com
X-WR-CALDESC:Events for SINGPromos.com
BEGIN:VEVENT
DTSTART:20191018T000000
DTEND:20191021T235900
DTSTAMP:20260423T234229
CREATED:20191018T144140
LAST-MODIFIED:20191018T144140
UID:231803@https://singpromos.com
SUMMARY:Qatar Airways latest sale offers all-in return fares from S$820 all-in return to over 40 destinations! Book by 21 October 2019
DESCRIPTION:Experience cuisine like never before. Fares starting from 820 SGD. For more information, visit [ https://singpromos.com/airlines-flights/qatar-airways-latest-sale-offers-all-in-return-fares-from-s820-all-in-return-to-over-40-destinations-book-by-21-october-2019-231803/ ]. 
LOCATION:
URL:https://singpromos.com/airlines-flights/qatar-airways-latest-sale-offers-all-in-return-fares-from-s820-all-in-return-to-over-40-destinations-book-by-21-october-2019-231803/
END:VEVENT
END:VCALENDAR