BEGIN:VCALENDAR
PRODID:-//SINGPromos.com//NONSGML v1.0//EN
VERSION:2.0
CALSCALE:GREGORIAN
METHOD:PUBLISH
X-WR-CALNAME:SINGPromos.com
X-ORIGINAL-URL:https://singpromos.com
X-WR-CALDESC:Events for SINGPromos.com
BEGIN:VEVENT
DTSTART:20191029T000000
DTEND:20191130T235900
DTSTAMP:20260422T082300
CREATED:20191029T195206
LAST-MODIFIED:20191030T003820
UID:232112@https://singpromos.com
SUMMARY:Tim Ho Wan's $3.80 Tea-Time Promotion is back by demand at selected outlets from 29 October 2019
DESCRIPTION:Back by popular demand!. For more information, visit [ https://singpromos.com/dining-restaurants-food/tim-ho-wans-3-80-tea-time-promotion-is-back-by-demand-at-selected-outlets-from-29-october-2019-232112/ ]. 
LOCATION:
URL:https://singpromos.com/dining-restaurants-food/tim-ho-wans-3-80-tea-time-promotion-is-back-by-demand-at-selected-outlets-from-29-october-2019-232112/
END:VEVENT
END:VCALENDAR