BEGIN:VCALENDAR
PRODID:-//SINGPromos.com//NONSGML v1.0//EN
VERSION:2.0
CALSCALE:GREGORIAN
METHOD:PUBLISH
X-WR-CALNAME:SINGPromos.com
X-ORIGINAL-URL:https://singpromos.com
X-WR-CALDESC:Events for SINGPromos.com
BEGIN:VEVENT
DTSTART:20191029T000000
DTEND:20191104T235900
DTSTAMP:20260420T005451
CREATED:20191030T112156
LAST-MODIFIED:20191030T152516
UID:232128@https://singpromos.com
SUMMARY:GOG.com Halloween sale now on till 4 November 2019
DESCRIPTION:Halloween Sale: Blair Witch, Layers of Fear 2, Call of Cthulhu, and 300+ Deals Up to -90%. For more information, visit [ https://singpromos.com/video-games/gog-com-halloween-sale-now-on-till-4-november-2019-232128/ ]. 
LOCATION:
URL:https://singpromos.com/video-games/gog-com-halloween-sale-now-on-till-4-november-2019-232128/
END:VEVENT
END:VCALENDAR