BEGIN:VCALENDAR
PRODID:-//SINGPromos.com//NONSGML v1.0//EN
VERSION:2.0
CALSCALE:GREGORIAN
METHOD:PUBLISH
X-WR-CALNAME:SINGPromos.com
X-ORIGINAL-URL:https://singpromos.com
X-WR-CALDESC:Events for SINGPromos.com
BEGIN:VEVENT
DTSTART:20191101T000000
DTEND:20191130T235900
DTSTAMP:20260422T080531
CREATED:20191101T140124
LAST-MODIFIED:20191101T140124
UID:232202@https://singpromos.com
SUMMARY:Hennsley: Up to 85% Off for mattresses and 70% Off for premium sofa sets from 1 - 30 Nov 2019
DESCRIPTION:Grab some hot deals that can save your pockets for the coming festive season. For more information, visit [ https://singpromos.com/furniture/hennsley-up-to-85-off-for-mattresses-and-70-off-for-premium-sofa-sets-from-1-30-nov-2019-232202/ ]. 
LOCATION:
URL:https://singpromos.com/furniture/hennsley-up-to-85-off-for-mattresses-and-70-off-for-premium-sofa-sets-from-1-30-nov-2019-232202/
END:VEVENT
END:VCALENDAR