BEGIN:VCALENDAR
PRODID:-//SINGPromos.com//NONSGML v1.0//EN
VERSION:2.0
CALSCALE:GREGORIAN
METHOD:PUBLISH
X-WR-CALNAME:SINGPromos.com
X-ORIGINAL-URL:https://singpromos.com
X-WR-CALDESC:Events for SINGPromos.com
BEGIN:VEVENT
DTSTART:20191208T000000
DTEND:20191208T235900
DTSTAMP:20260422T082121
CREATED:20191207T120215
LAST-MODIFIED:20191207T124605
UID:232995@https://singpromos.com
SUMMARY:FairPrice Share-A-Textbook: Free pre-loved textbook and other reading materials giveaway on 8 December 2019
DESCRIPTION:NTUC FairPrice (FairPrice) has launched its 37th annual Share-A-Textbook project, aiming to collect a record 550,000 textbooks, the highest ever target for the project so far.. For more information, visit [ https://singpromos.com/books/fairprice-share-a-textbook-collecting-pre-loved-textbook-and-other-reading-materials-on-8-december-2019-232995/ ]. 
LOCATION:528523
URL:https://singpromos.com/books/fairprice-share-a-textbook-collecting-pre-loved-textbook-and-other-reading-materials-on-8-december-2019-232995/
END:VEVENT
END:VCALENDAR