BEGIN:VCALENDAR
PRODID:-//SINGPromos.com//NONSGML v1.0//EN
VERSION:2.0
CALSCALE:GREGORIAN
METHOD:PUBLISH
X-WR-CALNAME:SINGPromos.com
X-ORIGINAL-URL:https://singpromos.com
X-WR-CALDESC:Events for SINGPromos.com
BEGIN:VEVENT
DTSTART:20191126T000000
DTEND:20191129T235900
DTSTAMP:20260422T082232
CREATED:20191126T141327
LAST-MODIFIED:20191127T144434
UID:233045@https://singpromos.com
SUMMARY:Delifrance: 1-for-1 Classic Mayo Sandwich Deal from 26 - 29 November 2019
DESCRIPTION:It's 1-for-1 November, delightful deals just for you!. For more information, visit [ https://singpromos.com/dining-restaurants-food/delifrance-1-for-1-classic-mayo-sandwich-deal-from-26-29-november-2019-233045/ ]. 
LOCATION:
URL:https://singpromos.com/dining-restaurants-food/delifrance-1-for-1-classic-mayo-sandwich-deal-from-26-29-november-2019-233045/
END:VEVENT
END:VCALENDAR