BEGIN:VCALENDAR
PRODID:-//SINGPromos.com//NONSGML v1.0//EN
VERSION:2.0
CALSCALE:GREGORIAN
METHOD:PUBLISH
X-WR-CALNAME:SINGPromos.com
X-ORIGINAL-URL:https://singpromos.com
X-WR-CALDESC:Events for SINGPromos.com
BEGIN:VEVENT
DTSTART:20191128T000000
DTEND:20191204T235900
DTSTAMP:20260422T082302
CREATED:20191127T110241
LAST-MODIFIED:20191126T160742
UID:233067@https://singpromos.com
SUMMARY:HostGator: Up to 70% OFF select web hosting plans and free domains Black Friday & Cyber Monday promo from 28 Nov - 4 Dec 2019
DESCRIPTION:Get up to 70% off web hosting plans at HostGator. For more information, visit [ https://singpromos.com/web-hosting/hostgator-up-to-70-off-select-web-hosting-plans-and-free-domains-black-friday-cyber-monday-promo-from-28-nov-4-dec-2019-233067/ ]. 
LOCATION:
URL:https://singpromos.com/web-hosting/hostgator-up-to-70-off-select-web-hosting-plans-and-free-domains-black-friday-cyber-monday-promo-from-28-nov-4-dec-2019-233067/
END:VEVENT
END:VCALENDAR