BEGIN:VCALENDAR
PRODID:-//SINGPromos.com//NONSGML v1.0//EN
VERSION:2.0
CALSCALE:GREGORIAN
METHOD:PUBLISH
X-WR-CALNAME:SINGPromos.com
X-ORIGINAL-URL:https://singpromos.com
X-WR-CALDESC:Events for SINGPromos.com
BEGIN:VEVENT
DTSTART:20191125T000000
DTEND:20191201T235900
DTSTAMP:20260422T082130
CREATED:20191127T134845
LAST-MODIFIED:20191127T134845
UID:233109@https://singpromos.com
SUMMARY:The Book Sale by Times at AMK Hub from 25 Nov - 1 Dec 2019
DESCRIPTION:The highly popular Book Sale by Times is back !. For more information, visit [ https://singpromos.com/warehouse-sales/the-book-sale-by-times-at-amk-hub-from-25-nov-1-dec-2019-233109/ ]. 
LOCATION:569933
URL:https://singpromos.com/warehouse-sales/the-book-sale-by-times-at-amk-hub-from-25-nov-1-dec-2019-233109/
END:VEVENT
END:VCALENDAR