BEGIN:VCALENDAR
PRODID:-//SINGPromos.com//NONSGML v1.0//EN
VERSION:2.0
CALSCALE:GREGORIAN
METHOD:PUBLISH
X-WR-CALNAME:SINGPromos.com
X-ORIGINAL-URL:https://singpromos.com
X-WR-CALDESC:Events for SINGPromos.com
BEGIN:VEVENT
DTSTART:20120101T000000
DTEND:20120130T235900
DTSTAMP:20260422T082135
CREATED:20120108T003840
LAST-MODIFIED:20120111T221108
UID:23323@https://singpromos.com
SUMMARY:Bose Home Entertainment Systems Festive Treats 1 - 31 Jan 2012
DESCRIPTION:Usher in the year of the dragon with a load roar with Atlas's Bose festive offers. Be rewarded with the best sights and sound through their innovative products and services. . For more information, visit [ https://singpromos.com/audio-visual/bose-home-entertainment-systems-festive-treats-1-31-jan-2012-23323/ ]. 
LOCATION:
URL:https://singpromos.com/audio-visual/bose-home-entertainment-systems-festive-treats-1-31-jan-2012-23323/
END:VEVENT
END:VCALENDAR