BEGIN:VCALENDAR
PRODID:-//SINGPromos.com//NONSGML v1.0//EN
VERSION:2.0
CALSCALE:GREGORIAN
METHOD:PUBLISH
X-WR-CALNAME:SINGPromos.com
X-ORIGINAL-URL:https://singpromos.com
X-WR-CALDESC:Events for SINGPromos.com
BEGIN:VEVENT
DTSTART:20191129T000000
DTEND:20191202T235900
DTSTAMP:20260422T082302
CREATED:20191129T125412
LAST-MODIFIED:20191129T125412
UID:233339@https://singpromos.com
SUMMARY:Timberland 40% off sitewide online Black Friday x Cyber Monday weekend sale till 2 December 2019
DESCRIPTION:4 Days Only!. For more information, visit [ https://singpromos.com/footwear/timberland-40-off-sitewide-online-black-friday-x-cyber-monday-weekend-sale-till-2-december-2019-233339/ ]. 
LOCATION:
URL:https://singpromos.com/footwear/timberland-40-off-sitewide-online-black-friday-x-cyber-monday-weekend-sale-till-2-december-2019-233339/
END:VEVENT
END:VCALENDAR