BEGIN:VCALENDAR
PRODID:-//SINGPromos.com//NONSGML v1.0//EN
VERSION:2.0
CALSCALE:GREGORIAN
METHOD:PUBLISH
X-WR-CALNAME:SINGPromos.com
X-ORIGINAL-URL:https://singpromos.com
X-WR-CALDESC:Events for SINGPromos.com
BEGIN:VEVENT
DTSTART:20191130T000000
DTEND:20191201T235900
DTSTAMP:20260422T082230
CREATED:20191130T125424
LAST-MODIFIED:20191130T125437
UID:233373@https://singpromos.com
SUMMARY:Fairprice 2-Day Specials: Ferrero Rocher, Buy-2-Get-1-Free Ben & Jerry's, Thirsty Hippo & More! From 30 Nov - 1 Dec 2019
DESCRIPTION:2 day Christmas flash sale (30 Nov - 1 Dec). For more information, visit [ https://singpromos.com/dining-restaurants-food/fairprice-2-day-specials-ferrero-rocher-buy-2-get-1-free-ben-jerrys-thirsty-hippo-more-from-30-nov-1-dec-2019-233373/ ]. 
LOCATION:
URL:https://singpromos.com/dining-restaurants-food/fairprice-2-day-specials-ferrero-rocher-buy-2-get-1-free-ben-jerrys-thirsty-hippo-more-from-30-nov-1-dec-2019-233373/
END:VEVENT
END:VCALENDAR