BEGIN:VCALENDAR
PRODID:-//SINGPromos.com//NONSGML v1.0//EN
VERSION:2.0
CALSCALE:GREGORIAN
METHOD:PUBLISH
X-WR-CALNAME:SINGPromos.com
X-ORIGINAL-URL:https://singpromos.com
X-WR-CALDESC:Events for SINGPromos.com
BEGIN:VEVENT
DTSTART:20191210T000000
DTEND:20191210T235900
DTSTAMP:20260420T045100
CREATED:20191209T030549
LAST-MODIFIED:20191204T180149
UID:233640@https://singpromos.com
SUMMARY:Prata Wala will be offering 1 FOR 1 Curry Chicken Biryani at all outlets on 10 December 2019
DESCRIPTION:Tampines Mall Outlet Reopening Special: 1-for-1 Curry Chicken Biryani. For more information, visit [ https://singpromos.com/dining-restaurants-food/prata-wala-will-be-offering-1-for-1-curry-chicken-biryani-at-all-outlets-on-10-december-2019-233640/ ]. 
LOCATION:
URL:https://singpromos.com/dining-restaurants-food/prata-wala-will-be-offering-1-for-1-curry-chicken-biryani-at-all-outlets-on-10-december-2019-233640/
END:VEVENT
END:VCALENDAR