BEGIN:VCALENDAR
PRODID:-//SINGPromos.com//NONSGML v1.0//EN
VERSION:2.0
CALSCALE:GREGORIAN
METHOD:PUBLISH
X-WR-CALNAME:SINGPromos.com
X-ORIGINAL-URL:https://singpromos.com
X-WR-CALDESC:Events for SINGPromos.com
BEGIN:VEVENT
DTSTART:20191202T000000
DTEND:20200529T235900
DTSTAMP:20260422T082321
CREATED:20191205T171935
LAST-MODIFIED:20191206T154325
UID:233720@https://singpromos.com
SUMMARY:OLDTOWN White Coffee: 1-for-1 selected main course items with DBS/POSB cards on weekdays till 29 May 2020
DESCRIPTION:1-for-1 selected main course items. For more information, visit [ https://singpromos.com/dining-restaurants-food/oldtown-white-coffee-1-for-1-selected-main-course-items-with-dbs-posb-cards-on-weekdays-till-29-may-2020-233720/ ]. 
LOCATION:
URL:https://singpromos.com/dining-restaurants-food/oldtown-white-coffee-1-for-1-selected-main-course-items-with-dbs-posb-cards-on-weekdays-till-29-may-2020-233720/
END:VEVENT
END:VCALENDAR