BEGIN:VCALENDAR
PRODID:-//SINGPromos.com//NONSGML v1.0//EN
VERSION:2.0
CALSCALE:GREGORIAN
METHOD:PUBLISH
X-WR-CALNAME:SINGPromos.com
X-ORIGINAL-URL:https://singpromos.com
X-WR-CALDESC:Events for SINGPromos.com
BEGIN:VEVENT
DTSTART:20120106T000000
DTEND:20120115T235900
DTSTAMP:20260424T034457
CREATED:20120108T173028
LAST-MODIFIED:20120114T042036
UID:23384@https://singpromos.com
SUMMARY:Tangs Joy Of Spring Chinese New Year Promotions & Offers 6 Jan 2012
DESCRIPTION:Start the new year in charming style with an elegant array of cheongsams and trinkets available at Tangs!. For more information, visit [ https://singpromos.com/household/tangs-joy-of-spring-chinese-new-year-promotions-offers-6-jan-2012-23384/ ]. 
LOCATION:
URL:https://singpromos.com/household/tangs-joy-of-spring-chinese-new-year-promotions-offers-6-jan-2012-23384/
END:VEVENT
END:VCALENDAR