BEGIN:VCALENDAR
PRODID:-//SINGPromos.com//NONSGML v1.0//EN
VERSION:2.0
CALSCALE:GREGORIAN
METHOD:PUBLISH
X-WR-CALNAME:SINGPromos.com
X-ORIGINAL-URL:https://singpromos.com
X-WR-CALDESC:Events for SINGPromos.com
BEGIN:VEVENT
DTSTART:20191211T000000
DTEND:20200102T235900
DTSTAMP:20260419T232509
CREATED:20191212T000228
LAST-MODIFIED:20191212T000228
UID:233950@https://singpromos.com
SUMMARY:GOG.COM's Winter Sale offers 2500+ deals at up to 95% off till 2 Jan 2020
DESCRIPTION:The time has come for the annual Winter Sale. For more information, visit [ https://singpromos.com/video-games/gog-coms-winter-sale-offers-2500-deals-at-up-to-95-off-till-2-jan-2020-233950/ ]. 
LOCATION:
URL:https://singpromos.com/video-games/gog-coms-winter-sale-offers-2500-deals-at-up-to-95-off-till-2-jan-2020-233950/
END:VEVENT
END:VCALENDAR