BEGIN:VCALENDAR
PRODID:-//SINGPromos.com//NONSGML v1.0//EN
VERSION:2.0
CALSCALE:GREGORIAN
METHOD:PUBLISH
X-WR-CALNAME:SINGPromos.com
X-ORIGINAL-URL:https://singpromos.com
X-WR-CALDESC:Events for SINGPromos.com
BEGIN:VEVENT
DTSTART:20191219T000000
DTEND:20191222T235900
DTSTAMP:20260422T082314
CREATED:20191219T003454
LAST-MODIFIED:20191222T222355
UID:234125@https://singpromos.com
SUMMARY:Qoo10: Christmas Super Sale - grab $12, $25 & $50 cart coupons daily till 22 December 2019
DESCRIPTION:Qoo10 is having a 12.12 Year End Magical Salepromotion featuring free cart coupons worth $12, $25 & $50.. For more information, visit [ https://singpromos.com/department-stores/qoo10-christmas-super-sale-grab-12-25-50-cart-coupons-daily-till-22-december-2019-234125/ ]. 
LOCATION:
URL:https://singpromos.com/department-stores/qoo10-christmas-super-sale-grab-12-25-50-cart-coupons-daily-till-22-december-2019-234125/
END:VEVENT
END:VCALENDAR