BEGIN:VCALENDAR
PRODID:-//SINGPromos.com//NONSGML v1.0//EN
VERSION:2.0
CALSCALE:GREGORIAN
METHOD:PUBLISH
X-WR-CALNAME:SINGPromos.com
X-ORIGINAL-URL:https://singpromos.com
X-WR-CALDESC:Events for SINGPromos.com
BEGIN:VEVENT
DTSTART:20191224T000000
DTEND:20191226T235900
DTSTAMP:20260422T082239
CREATED:20191224T005748
LAST-MODIFIED:20191224T005748
UID:234283@https://singpromos.com
SUMMARY:Kinokuniya: ALL customers enjoy 12% off storewide at online store from 24 - 26 Dec 2019
DESCRIPTION:Enjoy 12% off books exclusively at Kinokuniya Webstore for ALL customers. No membership is required!. For more information, visit [ https://singpromos.com/books/kinokuniya-all-customers-enjoy-12-off-storewide-at-online-store-from-24-26-dec-2019-234283/ ]. 
LOCATION:
URL:https://singpromos.com/books/kinokuniya-all-customers-enjoy-12-off-storewide-at-online-store-from-24-26-dec-2019-234283/
END:VEVENT
END:VCALENDAR