BEGIN:VCALENDAR
PRODID:-//SINGPromos.com//NONSGML v1.0//EN
VERSION:2.0
CALSCALE:GREGORIAN
METHOD:PUBLISH
X-WR-CALNAME:SINGPromos.com
X-ORIGINAL-URL:https://singpromos.com
X-WR-CALDESC:Events for SINGPromos.com
BEGIN:VEVENT
DTSTART:20120106T000000
DTEND:20120120T235900
DTSTAMP:20260422T082150
CREATED:20120108T204057
LAST-MODIFIED:20120108T204057
UID:23439@https://singpromos.com
SUMMARY:Golf Direct CNY Super Sale Promotion Price List 6 - 20 Jan 2012  
DESCRIPTION:Golf Direct is having a Chinese New Year Super Sale from 6 January to 20 January 2012 at their two outlets at Enterprise One and One Commonwealth.. For more information, visit [ https://singpromos.com/sports/golf-direct-cny-super-sale-promotion-price-list-6-20-jan-2012-23439/ ]. 
LOCATION:
URL:https://singpromos.com/sports/golf-direct-cny-super-sale-promotion-price-list-6-20-jan-2012-23439/
END:VEVENT
END:VCALENDAR