BEGIN:VCALENDAR
PRODID:-//SINGPromos.com//NONSGML v1.0//EN
VERSION:2.0
CALSCALE:GREGORIAN
METHOD:PUBLISH
X-WR-CALNAME:SINGPromos.com
X-ORIGINAL-URL:https://singpromos.com
X-WR-CALDESC:Events for SINGPromos.com
BEGIN:VEVENT
DTSTART:20120108T000000
DTEND:20120205T235900
DTSTAMP:20260420T173725
CREATED:20120109T003203
LAST-MODIFIED:20120109T003203
UID:23469@https://singpromos.com
SUMMARY:Mandarin Gallery Chinese New Year Promotions 6 Jan - 5 Feb 2012
DESCRIPTION:Share in the joy as Mandarin Gallery blossoms in a myriad of Spring styles and brilliant colours!. For more information, visit [ https://singpromos.com/shopping-malls/mandarin-gallery-chinese-new-year-promotions-6-jan-5-feb-2012-23469/ ]. 
LOCATION:
URL:https://singpromos.com/shopping-malls/mandarin-gallery-chinese-new-year-promotions-6-jan-5-feb-2012-23469/
END:VEVENT
END:VCALENDAR