BEGIN:VCALENDAR
PRODID:-//SINGPromos.com//NONSGML v1.0//EN
VERSION:2.0
CALSCALE:GREGORIAN
METHOD:PUBLISH
X-WR-CALNAME:SINGPromos.com
X-ORIGINAL-URL:https://singpromos.com
X-WR-CALDESC:Events for SINGPromos.com
BEGIN:VEVENT
DTSTART:20200109T000000
DTEND:20200930T235900
DTSTAMP:20260420T200230
CREATED:20200109T145226
LAST-MODIFIED:20200123T163600
UID:234930@https://singpromos.com
SUMMARY:Singapore Airlines and SilkAir releases special/early bird fares fr $138 to Southeast Asia destinations (Book by 31 Jan/30 Sep '20)
DESCRIPTION:Explore the wonders of Southeast Asia with Singapore Airlines and SilkAir. For more information, visit [ https://singpromos.com/airlines-flights/singapore-airlines-and-silkair-releases-special-early-bird-fares-fr-138-to-southeast-asia-destinations-book-by-31-jan-30-sep-20-234930/ ]. 
LOCATION:
URL:https://singpromos.com/airlines-flights/singapore-airlines-and-silkair-releases-special-early-bird-fares-fr-138-to-southeast-asia-destinations-book-by-31-jan-30-sep-20-234930/
END:VEVENT
END:VCALENDAR