BEGIN:VCALENDAR
PRODID:-//SINGPromos.com//NONSGML v1.0//EN
VERSION:2.0
CALSCALE:GREGORIAN
METHOD:PUBLISH
X-WR-CALNAME:SINGPromos.com
X-ORIGINAL-URL:https://singpromos.com
X-WR-CALDESC:Events for SINGPromos.com
BEGIN:VEVENT
DTSTART:20200115T000000
DTEND:20200119T235900
DTSTAMP:20260422T082318
CREATED:20200115T013207
LAST-MODIFIED:20200116T094054
UID:235099@https://singpromos.com
SUMMARY:Qoo10: CNY Grand Super Sale - grab $10, $18 & $88 cart coupons daily (15 - 19 Jan)
DESCRIPTION:Qoo10 is having a Super Sale promotion featuring free cart coupons. For more information, visit [ https://singpromos.com/department-stores/qoo10-cny-grand-super-sale-grab-10-18-88-cart-coupons-daily-15-19-jan-235099/ ]. 
LOCATION:
URL:https://singpromos.com/department-stores/qoo10-cny-grand-super-sale-grab-10-18-88-cart-coupons-daily-15-19-jan-235099/
END:VEVENT
END:VCALENDAR