BEGIN:VCALENDAR
PRODID:-//SINGPromos.com//NONSGML v1.0//EN
VERSION:2.0
CALSCALE:GREGORIAN
METHOD:PUBLISH
X-WR-CALNAME:SINGPromos.com
X-ORIGINAL-URL:https://singpromos.com
X-WR-CALDESC:Events for SINGPromos.com
BEGIN:VEVENT
DTSTART:20200116T000000
DTEND:20200122T235900
DTSTAMP:20260424T023530
CREATED:20200116T035617
LAST-MODIFIED:20200117T131523
UID:235145@https://singpromos.com
SUMMARY:Fairprice: New Moon, Fortune, New Skylight, Golden Chef abalone & other CNY offers valid till 22 Jan '20
DESCRIPTION:Check out NTUC Fairprice's latest abalone and Chinese New Year offers. For more information, visit [ https://singpromos.com/dining-restaurants-food/fairprice-new-moon-fortune-new-skylight-golden-chef-abalone-other-cny-offers-valid-till-22-jan-20-235145/ ]. 
LOCATION:
URL:https://singpromos.com/dining-restaurants-food/fairprice-new-moon-fortune-new-skylight-golden-chef-abalone-other-cny-offers-valid-till-22-jan-20-235145/
END:VEVENT
END:VCALENDAR