BEGIN:VCALENDAR
PRODID:-//SINGPromos.com//NONSGML v1.0//EN
VERSION:2.0
CALSCALE:GREGORIAN
METHOD:PUBLISH
X-WR-CALNAME:SINGPromos.com
X-ORIGINAL-URL:https://singpromos.com
X-WR-CALDESC:Events for SINGPromos.com
BEGIN:VEVENT
DTSTART:20200208T000000
DTEND:20200217T235900
DTSTAMP:20260420T200229
CREATED:20200208T135846
LAST-MODIFIED:20200207T231132
UID:235742@https://singpromos.com
SUMMARY:Explore natural wonders in Bali fr S$198 with Singapore Airlines or SilkAir. Book by 29 February 2020.
DESCRIPTION:Explore natural wonders in Bali. For more information, visit [ https://singpromos.com/airlines-flights/explore-natural-wonders-in-bali-fr-s198-with-singapore-airlines-or-silkair-book-by-29-february-2020-235742/ ]. 
LOCATION:
URL:https://singpromos.com/airlines-flights/explore-natural-wonders-in-bali-fr-s198-with-singapore-airlines-or-silkair-book-by-29-february-2020-235742/
END:VEVENT
END:VCALENDAR