BEGIN:VCALENDAR
PRODID:-//SINGPromos.com//NONSGML v1.0//EN
VERSION:2.0
CALSCALE:GREGORIAN
METHOD:PUBLISH
X-WR-CALNAME:SINGPromos.com
X-ORIGINAL-URL:https://singpromos.com
X-WR-CALDESC:Events for SINGPromos.com
BEGIN:VEVENT
DTSTART:20200211T000000
DTEND:20200212T235900
DTSTAMP:20260420T203425
CREATED:20200211T002952
LAST-MODIFIED:20200211T002952
UID:235775@https://singpromos.com
SUMMARY:Qoo10: Grab free $9 cart coupons (usable with min spend of $60) till 12 Feb 2020
DESCRIPTION:Qoo10 is running a promotion featuring free cart coupons worth $9!. For more information, visit [ https://singpromos.com/department-stores/qoo10-grab-free-9-cart-coupons-usable-with-min-spend-of-60-till-12-feb-2020-235775/ ]. 
LOCATION:
URL:https://singpromos.com/department-stores/qoo10-grab-free-9-cart-coupons-usable-with-min-spend-of-60-till-12-feb-2020-235775/
END:VEVENT
END:VCALENDAR