BEGIN:VCALENDAR
PRODID:-//SINGPromos.com//NONSGML v1.0//EN
VERSION:2.0
CALSCALE:GREGORIAN
METHOD:PUBLISH
X-WR-CALNAME:SINGPromos.com
X-ORIGINAL-URL:https://singpromos.com
X-WR-CALDESC:Events for SINGPromos.com
BEGIN:VEVENT
DTSTART:20200213T000000
DTEND:20200229T235900
DTSTAMP:20260424T023541
CREATED:20200213T181419
LAST-MODIFIED:20200213T181545
UID:235841@https://singpromos.com
SUMMARY:Big Fish Small Fish is offering 1-for-1 Classic Fish & Chips at JCube outlet till 29 February 2020
DESCRIPTION:Have your fish in your way with Big Fish Small Fish's New Menu Launch!. For more information, visit [ https://singpromos.com/dining-restaurants-food/big-fish-small-fish-is-offering-1-for-1-classic-fish-chips-at-jcube-outlet-till-29-febraury-2020-235841/ ]. 
LOCATION:609731
URL:https://singpromos.com/dining-restaurants-food/big-fish-small-fish-is-offering-1-for-1-classic-fish-chips-at-jcube-outlet-till-29-febraury-2020-235841/
END:VEVENT
END:VCALENDAR