BEGIN:VCALENDAR
PRODID:-//SINGPromos.com//NONSGML v1.0//EN
VERSION:2.0
CALSCALE:GREGORIAN
METHOD:PUBLISH
X-WR-CALNAME:SINGPromos.com
X-ORIGINAL-URL:https://singpromos.com
X-WR-CALDESC:Events for SINGPromos.com
BEGIN:VEVENT
DTSTART:20200218T000000
DTEND:20200221T235900
DTSTAMP:20260422T082321
CREATED:20200215T124321
LAST-MODIFIED:20200220T192708
UID:235872@https://singpromos.com
SUMMARY:Delifrance to offer 1-for-1 Classic Mayo Sandwich from 18 - 21 Feb 2020
DESCRIPTION:FEBulous deals just for you!. For more information, visit [ https://singpromos.com/dining-restaurants-food/delifrance-to-offer-1-for-1-classic-mayo-sandwich-from-18-21-feb-2020-235872/ ]. 
LOCATION:
URL:https://singpromos.com/dining-restaurants-food/delifrance-to-offer-1-for-1-classic-mayo-sandwich-from-18-21-feb-2020-235872/
END:VEVENT
END:VCALENDAR