BEGIN:VCALENDAR
PRODID:-//SINGPromos.com//NONSGML v1.0//EN
VERSION:2.0
CALSCALE:GREGORIAN
METHOD:PUBLISH
X-WR-CALNAME:SINGPromos.com
X-ORIGINAL-URL:https://singpromos.com
X-WR-CALDESC:Events for SINGPromos.com
BEGIN:VEVENT
DTSTART:20200218T000000
DTEND:20200301T235900
DTSTAMP:20260419T233347
CREATED:20200219T141130
LAST-MODIFIED:20200219T141726
UID:235934@https://singpromos.com
SUMMARY:Hong Kong Sheng Kee Dessert is offering 1-For-1 Selected Sets from $10.50 (U.P. $25) till 1 March 2020
DESCRIPTION:Flash & Redeem 1-For-1 Selected Sets!. For more information, visit [ https://singpromos.com/dining-restaurants-food/hong-kong-sheng-kee-dessert-is-offering-1-for-1-selected-sets-from-10-50-u-p-25-till-1-march-2020-235934/ ]. 
LOCATION:
URL:https://singpromos.com/dining-restaurants-food/hong-kong-sheng-kee-dessert-is-offering-1-for-1-selected-sets-from-10-50-u-p-25-till-1-march-2020-235934/
END:VEVENT
END:VCALENDAR