BEGIN:VCALENDAR
PRODID:-//SINGPromos.com//NONSGML v1.0//EN
VERSION:2.0
CALSCALE:GREGORIAN
METHOD:PUBLISH
X-WR-CALNAME:SINGPromos.com
X-ORIGINAL-URL:https://singpromos.com
X-WR-CALDESC:Events for SINGPromos.com
BEGIN:VEVENT
DTSTART:20200228T000000
DTEND:20200301T235900
DTSTAMP:20260424T023540
CREATED:20200224T135650
LAST-MODIFIED:20200224T135650
UID:236091@https://singpromos.com
SUMMARY:Manhattan FISH MARKET S'pore to offer $6.90 hand-battered Fish 'n Chips deal from 28 February - 1 March 2020
DESCRIPTION:Craziest deal is in town!. For more information, visit [ https://singpromos.com/dining-restaurants-food/manhattan-fish-market-spore-to-offer-6-90-hand-battered-fish-n-chips-deal-from-28-february-1-march-2020-236091/ ]. 
LOCATION:
URL:https://singpromos.com/dining-restaurants-food/manhattan-fish-market-spore-to-offer-6-90-hand-battered-fish-n-chips-deal-from-28-february-1-march-2020-236091/
END:VEVENT
END:VCALENDAR