BEGIN:VCALENDAR
PRODID:-//SINGPromos.com//NONSGML v1.0//EN
VERSION:2.0
CALSCALE:GREGORIAN
METHOD:PUBLISH
X-WR-CALNAME:SINGPromos.com
X-ORIGINAL-URL:https://singpromos.com
X-WR-CALDESC:Events for SINGPromos.com
BEGIN:VEVENT
DTSTART:20200301T000000
DTEND:20200430T235900
DTSTAMP:20260420T035047
CREATED:20200226T132305
LAST-MODIFIED:20200226T132403
UID:236109@https://singpromos.com
SUMMARY:Donate your used running shoes at Running Lab outlets and receive a $50 shoe voucher (1 Mar - 30 Apr 2020)
DESCRIPTION:Donate your USED running shoes for a good cause and receive $50 shoe voucher from Running Lab.. For more information, visit [ https://singpromos.com/footwear/donate-your-used-running-shoes-at-running-lab-outlets-and-receive-a-50-shoe-voucher-1-mar-30-apr-2020-236109/ ]. 
LOCATION:
URL:https://singpromos.com/footwear/donate-your-used-running-shoes-at-running-lab-outlets-and-receive-a-50-shoe-voucher-1-mar-30-apr-2020-236109/
END:VEVENT
END:VCALENDAR