BEGIN:VCALENDAR
PRODID:-//SINGPromos.com//NONSGML v1.0//EN
VERSION:2.0
CALSCALE:GREGORIAN
METHOD:PUBLISH
X-WR-CALNAME:SINGPromos.com
X-ORIGINAL-URL:https://singpromos.com
X-WR-CALDESC:Events for SINGPromos.com
BEGIN:VEVENT
DTSTART:20200302T000000
DTEND:20200315T235900
DTSTAMP:20260420T074442
CREATED:20200302T140545
LAST-MODIFIED:20200302T150616
UID:236287@https://singpromos.com
SUMMARY:Morganfield's: 1-for-1 Baby Back Ribs (2 - 15 March 2020, Sun - Thurs)
DESCRIPTION:FREE full slab of Baby Back Ribs with every Baby Back Ribs ordered. For more information, visit [ https://singpromos.com/dining-restaurants-food/morganfields-1-for-1-baby-back-ribs-2-15-march-2020-sun-thurs-236287/ ]. 
LOCATION:
URL:https://singpromos.com/dining-restaurants-food/morganfields-1-for-1-baby-back-ribs-2-15-march-2020-sun-thurs-236287/
END:VEVENT
END:VCALENDAR