BEGIN:VCALENDAR
PRODID:-//SINGPromos.com//NONSGML v1.0//EN
VERSION:2.0
CALSCALE:GREGORIAN
METHOD:PUBLISH
X-WR-CALNAME:SINGPromos.com
X-ORIGINAL-URL:https://singpromos.com
X-WR-CALDESC:Events for SINGPromos.com
BEGIN:VEVENT
DTSTART:20200305T000000
DTEND:20200306T235900
DTSTAMP:20260420T050919
CREATED:20200305T022110
LAST-MODIFIED:20200305T022110
UID:236394@https://singpromos.com
SUMMARY:Qoo10: Grab free $6 cart coupons (usable with min spend $40) valid till 6 March 2020
DESCRIPTION:Qoo10 is running a Exclusive Rewards promotion featuring free cart coupons worth $6.. For more information, visit [ https://singpromos.com/department-stores/qoo10-grab-free-6-cart-coupons-usable-with-min-spend-40-valid-till-6-march-2020-236394/ ]. 
LOCATION:
URL:https://singpromos.com/department-stores/qoo10-grab-free-6-cart-coupons-usable-with-min-spend-40-valid-till-6-march-2020-236394/
END:VEVENT
END:VCALENDAR