BEGIN:VCALENDAR
PRODID:-//SINGPromos.com//NONSGML v1.0//EN
VERSION:2.0
CALSCALE:GREGORIAN
METHOD:PUBLISH
X-WR-CALNAME:SINGPromos.com
X-ORIGINAL-URL:https://singpromos.com
X-WR-CALDESC:Events for SINGPromos.com
BEGIN:VEVENT
DTSTART:20200309T000000
DTEND:20200312T235900
DTSTAMP:20260422T082308
CREATED:20200308T145616
LAST-MODIFIED:20200308T193542
UID:236494@https://singpromos.com
SUMMARY:SUKI-YA: 1-for-1 Shabu Shabu dinner at Tampines Mall from 9 - 12 March 2020
DESCRIPTION:Say "Y E S" to Suki-Ya's 1-FOR-1 ALL YOU CAN EAT SHABU SHABU DINNER. For more information, visit [ https://singpromos.com/dining-restaurants-food/suki-ya-1-for-1-shabu-shabu-dinner-at-tampines-mall-from-9-12-march-2020-236494/ ]. 
LOCATION:529510
URL:https://singpromos.com/dining-restaurants-food/suki-ya-1-for-1-shabu-shabu-dinner-at-tampines-mall-from-9-12-march-2020-236494/
END:VEVENT
END:VCALENDAR