BEGIN:VCALENDAR
PRODID:-//SINGPromos.com//NONSGML v1.0//EN
VERSION:2.0
CALSCALE:GREGORIAN
METHOD:PUBLISH
X-WR-CALNAME:SINGPromos.com
X-ORIGINAL-URL:https://singpromos.com
X-WR-CALDESC:Events for SINGPromos.com
BEGIN:VEVENT
DTSTART:20200310T000000
DTEND:20200312T235900
DTSTAMP:20260422T082302
CREATED:20200310T014931
LAST-MODIFIED:20200310T014931
UID:236547@https://singpromos.com
SUMMARY:Qoo10 Day Grand Sale - grab $10, $30 & $50 cart coupons daily (10 - 12 Mar '20)
DESCRIPTION:Qoo10 is having a promotion featuring free cart coupons. For more information, visit [ https://singpromos.com/department-stores/qoo10-day-grand-sale-grab-10-30-50-cart-coupons-daily-10-12-mar-20-236547/ ]. 
LOCATION:
URL:https://singpromos.com/department-stores/qoo10-day-grand-sale-grab-10-30-50-cart-coupons-daily-10-12-mar-20-236547/
END:VEVENT
END:VCALENDAR