BEGIN:VCALENDAR
PRODID:-//SINGPromos.com//NONSGML v1.0//EN
VERSION:2.0
CALSCALE:GREGORIAN
METHOD:PUBLISH
X-WR-CALNAME:SINGPromos.com
X-ORIGINAL-URL:https://singpromos.com
X-WR-CALDESC:Events for SINGPromos.com
BEGIN:VEVENT
DTSTART:20200316T000000
DTEND:20200322T235900
DTSTAMP:20260422T082301
CREATED:20200315T121129
LAST-MODIFIED:20200316T180706
UID:236675@https://singpromos.com
SUMMARY:SUKI-YA: 1-for-1 Shabu Shabu dinner at Kallang Wave Mall from 16 - 22 March 2020
DESCRIPTION:Always looking forward to the unlimited waves of shabu-shabu meat to the table?. For more information, visit [ https://singpromos.com/dining-restaurants-food/suki-ya-1-for-1-shabu-shabu-dinner-at-kallang-wave-mall-from-16-22-march-2020-236675/ ]. 
LOCATION:397628
URL:https://singpromos.com/dining-restaurants-food/suki-ya-1-for-1-shabu-shabu-dinner-at-kallang-wave-mall-from-16-22-march-2020-236675/
END:VEVENT
END:VCALENDAR